BEGIN:VCALENDAR
VERSION:2.0
PRODID:-//Momentum Academy - ECPv6.15.20//NONSGML v1.0//EN
CALSCALE:GREGORIAN
METHOD:PUBLISH
X-ORIGINAL-URL:https://momentumacademystl.org
X-WR-CALDESC:Events for Momentum Academy
REFRESH-INTERVAL;VALUE=DURATION:PT1H
X-Robots-Tag:noindex
X-PUBLISHED-TTL:PT1H
BEGIN:VTIMEZONE
TZID:America/Chicago
BEGIN:DAYLIGHT
TZOFFSETFROM:-0600
TZOFFSETTO:-0500
TZNAME:CDT
DTSTART:20220313T080000
END:DAYLIGHT
BEGIN:STANDARD
TZOFFSETFROM:-0500
TZOFFSETTO:-0600
TZNAME:CST
DTSTART:20221106T070000
END:STANDARD
BEGIN:DAYLIGHT
TZOFFSETFROM:-0600
TZOFFSETTO:-0500
TZNAME:CDT
DTSTART:20230312T080000
END:DAYLIGHT
BEGIN:STANDARD
TZOFFSETFROM:-0500
TZOFFSETTO:-0600
TZNAME:CST
DTSTART:20231105T070000
END:STANDARD
BEGIN:DAYLIGHT
TZOFFSETFROM:-0600
TZOFFSETTO:-0500
TZNAME:CDT
DTSTART:20240310T080000
END:DAYLIGHT
BEGIN:STANDARD
TZOFFSETFROM:-0500
TZOFFSETTO:-0600
TZNAME:CST
DTSTART:20241103T070000
END:STANDARD
END:VTIMEZONE
BEGIN:VEVENT
DTSTART;VALUE=DATE:20230424
DTEND;VALUE=DATE:20230425
DTSTAMP:20260421T030331
CREATED:20230329T204237Z
LAST-MODIFIED:20230330T191549Z
UID:10000297-1682294400-1682380799@momentumacademystl.org
SUMMARY:Dental Van
DESCRIPTION:The Dental van will be at our school to provide oral health screenings.
URL:https://momentumacademystl.org/calendar/dental-van/
LOCATION:Tower Groves East\, 2900 S. Grand Blvd.\, St. Louis\, MO\, 63118\, United States
CATEGORIES:Tower Grove East Event
ATTACH;FMTTYPE=image/png:https://momentumacademystl.org/wp-content/uploads/2023/03/Dental-Van_pexels-anna-shvets-4045552.png
ORGANIZER;CN="Antionette Bedessie":MAILTO:antionette.bedessie@momentumacademystl.org
END:VEVENT
BEGIN:VEVENT
DTSTART;TZID=America/Chicago:20230419T173000
DTEND;TZID=America/Chicago:20230419T210000
DTSTAMP:20260421T030331
CREATED:20230330T162823Z
LAST-MODIFIED:20230330T195152Z
UID:10000389-1681925400-1681938000@momentumacademystl.org
SUMMARY:Boy Soccer Game
DESCRIPTION:Come join us for the boys soccer game.
URL:https://momentumacademystl.org/calendar/boy-soccer-game-2/
LOCATION:Tower Groves East\, 2900 S. Grand Blvd.\, St. Louis\, MO\, 63118\, United States
CATEGORIES:Tower Grove East Event
ATTACH;FMTTYPE=image/png:https://momentumacademystl.org/wp-content/uploads/2023/03/Soccer_pexels-pixabay-274506.png
ORGANIZER;CN="Antionette Bedessie":MAILTO:antionette.bedessie@momentumacademystl.org
END:VEVENT
BEGIN:VEVENT
DTSTART;VALUE=DATE:20230417
DTEND;VALUE=DATE:20230422
DTSTAMP:20260421T030331
CREATED:20230329T203212Z
LAST-MODIFIED:20230330T200122Z
UID:10000295-1681689600-1682121599@momentumacademystl.org
SUMMARY:MAP Testing 5th and 8th Grade: Science
DESCRIPTION:MAP testing in Science for 3rd through 8th graders starts
URL:https://momentumacademystl.org/calendar/map-testing-5th-and-8th-grade-science/
LOCATION:Tower Groves East\, 2900 S. Grand Blvd.\, St. Louis\, MO\, 63118\, United States
CATEGORIES:Tower Grove East Event
ATTACH;FMTTYPE=image/png:https://momentumacademystl.org/wp-content/uploads/2023/03/Testing_AdobeStock_90430158.png
ORGANIZER;CN="Antionette Bedessie":MAILTO:antionette.bedessie@momentumacademystl.org
END:VEVENT
BEGIN:VEVENT
DTSTART;VALUE=DATE:20230413
DTEND;VALUE=DATE:20230414
DTSTAMP:20260421T030331
CREATED:20230329T204755Z
LAST-MODIFIED:20230330T200415Z
UID:10000301-1681344000-1681430399@momentumacademystl.org
SUMMARY:Girls in The Know-4th Grade
DESCRIPTION:
URL:https://momentumacademystl.org/calendar/girls-in-the-know-4th-grade-2/
LOCATION:Tower Groves East\, 2900 S. Grand Blvd.\, St. Louis\, MO\, 63118\, United States
CATEGORIES:Tower Grove East Event
ATTACH;FMTTYPE=image/jpeg:https://momentumacademystl.org/wp-content/uploads/2023/03/IMG_5376-scaled.jpg
ORGANIZER;CN="Antionette Bedessie":MAILTO:antionette.bedessie@momentumacademystl.org
END:VEVENT
BEGIN:VEVENT
DTSTART;TZID=America/Chicago:20230412T173000
DTEND;TZID=America/Chicago:20230412T210000
DTSTAMP:20260421T030331
CREATED:20230329T203018Z
LAST-MODIFIED:20230330T200438Z
UID:10000294-1681320600-1681333200@momentumacademystl.org
SUMMARY:Boys Soccer Game
DESCRIPTION:Come join us for the boys soccer game.
URL:https://momentumacademystl.org/calendar/boys-soccer-game-2/
LOCATION:Tower Groves East\, 2900 S. Grand Blvd.\, St. Louis\, MO\, 63118\, United States
CATEGORIES:Tower Grove East Event
ATTACH;FMTTYPE=image/png:https://momentumacademystl.org/wp-content/uploads/2023/03/Soccer_pexels-pixabay-274506.png
ORGANIZER;CN="Antionette Bedessie":MAILTO:antionette.bedessie@momentumacademystl.org
END:VEVENT
BEGIN:VEVENT
DTSTART;VALUE=DATE:20230410
DTEND;VALUE=DATE:20230415
DTSTAMP:20260421T030331
CREATED:20230329T202748Z
LAST-MODIFIED:20230330T145723Z
UID:10000293-1681084800-1681516799@momentumacademystl.org
SUMMARY:MAP Testing 3rd through 8th Grade: ELA
DESCRIPTION:MAP testing in English Language Arts for 3rd through 8th graders starts
URL:https://momentumacademystl.org/calendar/map-testing-3rd-through-8th-grade-ela/
LOCATION:Tower Groves East\, 2900 S. Grand Blvd.\, St. Louis\, MO\, 63118\, United States
CATEGORIES:Tower Grove East Event
ORGANIZER;CN="Antionette Bedessie":MAILTO:antionette.bedessie@momentumacademystl.org
END:VEVENT
BEGIN:VEVENT
DTSTART;TZID=America/Chicago:20230406T080000
DTEND;TZID=America/Chicago:20230406T170000
DTSTAMP:20260421T030331
CREATED:20230329T204725Z
LAST-MODIFIED:20230330T145851Z
UID:10000300-1680768000-1680800400@momentumacademystl.org
SUMMARY:Girls in The Know-4th Grade
DESCRIPTION:
URL:https://momentumacademystl.org/calendar/girls-in-the-know-4th-grade/
LOCATION:Tower Groves East\, 2900 S. Grand Blvd.\, St. Louis\, MO\, 63118\, United States
CATEGORIES:Tower Grove East Event
ORGANIZER;CN="Antionette Bedessie":MAILTO:antionette.bedessie@momentumacademystl.org
END:VEVENT
BEGIN:VEVENT
DTSTART;TZID=America/Chicago:20230405T173000
DTEND;TZID=America/Chicago:20230405T210000
DTSTAMP:20260421T030331
CREATED:20230329T202513Z
LAST-MODIFIED:20230330T145832Z
UID:10000292-1680715800-1680728400@momentumacademystl.org
SUMMARY:Boys Soccer Game
DESCRIPTION:Come join us for the boys soccer game.
URL:https://momentumacademystl.org/calendar/boys-soccer-game/
LOCATION:Tower Groves East\, 2900 S. Grand Blvd.\, St. Louis\, MO\, 63118\, United States
CATEGORIES:Tower Grove East Event
ORGANIZER;CN="Antionette Bedessie":MAILTO:antionette.bedessie@momentumacademystl.org
END:VEVENT
BEGIN:VEVENT
DTSTART;VALUE=DATE:20230403
DTEND;VALUE=DATE:20230408
DTSTAMP:20260421T030331
CREATED:20230329T202017Z
LAST-MODIFIED:20230330T145949Z
UID:10000291-1680480000-1680911999@momentumacademystl.org
SUMMARY:MAP Testing 3rd through 8th Grade: Math
DESCRIPTION:It’s time for MAP testing in math for all 3rd to 8th graders!
URL:https://momentumacademystl.org/calendar/map-testing-3rd-through-8th-grade-math/
LOCATION:Tower Groves East\, 2900 S. Grand Blvd.\, St. Louis\, MO\, 63118\, United States
CATEGORIES:Tower Grove East Event
ORGANIZER;CN="Antionette Bedessie":MAILTO:antionette.bedessie@momentumacademystl.org
END:VEVENT
END:VCALENDAR