BEGIN:VCALENDAR
VERSION:2.0
PRODID:-//Momentum Academy - ECPv6.15.20//NONSGML v1.0//EN
CALSCALE:GREGORIAN
METHOD:PUBLISH
X-WR-CALNAME:Momentum Academy
X-ORIGINAL-URL:https://momentumacademystl.org
X-WR-CALDESC:Events for Momentum Academy
REFRESH-INTERVAL;VALUE=DURATION:PT1H
X-Robots-Tag:noindex
X-PUBLISHED-TTL:PT1H
BEGIN:VTIMEZONE
TZID:America/Chicago
BEGIN:DAYLIGHT
TZOFFSETFROM:-0600
TZOFFSETTO:-0500
TZNAME:CDT
DTSTART:20220313T080000
END:DAYLIGHT
BEGIN:STANDARD
TZOFFSETFROM:-0500
TZOFFSETTO:-0600
TZNAME:CST
DTSTART:20221106T070000
END:STANDARD
BEGIN:DAYLIGHT
TZOFFSETFROM:-0600
TZOFFSETTO:-0500
TZNAME:CDT
DTSTART:20230312T080000
END:DAYLIGHT
BEGIN:STANDARD
TZOFFSETFROM:-0500
TZOFFSETTO:-0600
TZNAME:CST
DTSTART:20231105T070000
END:STANDARD
BEGIN:DAYLIGHT
TZOFFSETFROM:-0600
TZOFFSETTO:-0500
TZNAME:CDT
DTSTART:20240310T080000
END:DAYLIGHT
BEGIN:STANDARD
TZOFFSETFROM:-0500
TZOFFSETTO:-0600
TZNAME:CST
DTSTART:20241103T070000
END:STANDARD
BEGIN:DAYLIGHT
TZOFFSETFROM:-0600
TZOFFSETTO:-0500
TZNAME:CDT
DTSTART:20250309T080000
END:DAYLIGHT
BEGIN:STANDARD
TZOFFSETFROM:-0500
TZOFFSETTO:-0600
TZNAME:CST
DTSTART:20251102T070000
END:STANDARD
BEGIN:DAYLIGHT
TZOFFSETFROM:-0600
TZOFFSETTO:-0500
TZNAME:CDT
DTSTART:20260308T080000
END:DAYLIGHT
BEGIN:STANDARD
TZOFFSETFROM:-0500
TZOFFSETTO:-0600
TZNAME:CST
DTSTART:20261101T070000
END:STANDARD
END:VTIMEZONE
BEGIN:VEVENT
DTSTART;TZID=America/Chicago:20251025T080000
DTEND;TZID=America/Chicago:20251025T120000
DTSTAMP:20260421T005801
CREATED:20251014T000350Z
LAST-MODIFIED:20251014T000350Z
UID:10000766-1761379200-1761393600@momentumacademystl.org
SUMMARY:Fall '25 Family Teacher Conferences Day #2
DESCRIPTION:
URL:https://momentumacademystl.org/calendar/fall-25-family-teacher-conferences-day-2/
LOCATION:Tower Groves East\, 2900 S. Grand Blvd.\, St. Louis\, MO\, 63118\, United States
CATEGORIES:Fox Park Event,School Event,Tower Grove East Event,Tower Grove South Event
END:VEVENT
BEGIN:VEVENT
DTSTART;TZID=America/Chicago:20251024T160000
DTEND;TZID=America/Chicago:20251024T190000
DTSTAMP:20260421T005801
CREATED:20251014T000230Z
LAST-MODIFIED:20251014T000230Z
UID:10000765-1761321600-1761332400@momentumacademystl.org
SUMMARY:Fall '25 Family Teacher Conferences
DESCRIPTION:
URL:https://momentumacademystl.org/calendar/fall-25-family-teacher-conferences/
LOCATION:Fox Park\, 2617 Shenandoah Ave\, St. Louis\, MO\, 63104\, United States
CATEGORIES:Fox Park Event,School Event,Tower Grove East Event,Tower Grove South Event
END:VEVENT
BEGIN:VEVENT
DTSTART;VALUE=DATE:20231221
DTEND;VALUE=DATE:20231222
DTSTAMP:20260421T005801
CREATED:20230919T145538Z
LAST-MODIFIED:20230919T145538Z
UID:10000489-1703116800-1703203199@momentumacademystl.org
SUMMARY:TGE Winterfest
DESCRIPTION:
URL:https://momentumacademystl.org/calendar/tgewinterfest/
LOCATION:Tower Groves East\, 2900 S. Grand Blvd.\, St. Louis\, MO\, 63118\, United States
CATEGORIES:Tower Grove East Event
ATTACH;FMTTYPE=image/jpeg:https://momentumacademystl.org/wp-content/uploads/2023/09/pexels-candis-hidalgo-639110-scaled.jpg
END:VEVENT
BEGIN:VEVENT
DTSTART;VALUE=DATE:20231215
DTEND;VALUE=DATE:20231216
DTSTAMP:20260421T005801
CREATED:20230919T145900Z
LAST-MODIFIED:20230919T145900Z
UID:10000490-1702598400-1702684799@momentumacademystl.org
SUMMARY:TGE Winter Dance
DESCRIPTION:
URL:https://momentumacademystl.org/calendar/tge-winter-dance/
LOCATION:Tower Groves East\, 2900 S. Grand Blvd.\, St. Louis\, MO\, 63118\, United States
CATEGORIES:Tower Grove East Event
ATTACH;FMTTYPE=image/jpeg:https://momentumacademystl.org/wp-content/uploads/2023/09/pexels-pixabay-220118-scaled.jpg
END:VEVENT
BEGIN:VEVENT
DTSTART;VALUE=DATE:20231204
DTEND;VALUE=DATE:20231209
DTSTAMP:20260421T005801
CREATED:20230919T143308Z
LAST-MODIFIED:20230919T143308Z
UID:10000488-1701648000-1702079999@momentumacademystl.org
SUMMARY:TGE Scholar Service Project
DESCRIPTION:
URL:https://momentumacademystl.org/calendar/tgeserviceproject/
LOCATION:Tower Groves East\, 2900 S. Grand Blvd.\, St. Louis\, MO\, 63118\, United States
CATEGORIES:Tower Grove East Event
END:VEVENT
BEGIN:VEVENT
DTSTART;VALUE=DATE:20231115
DTEND;VALUE=DATE:20231116
DTSTAMP:20260421T005801
CREATED:20230919T142813Z
LAST-MODIFIED:20230919T142832Z
UID:10000486-1700006400-1700092799@momentumacademystl.org
SUMMARY:Trip to the Capital!
DESCRIPTION:Embark on an unforgettable educational adventure as our TGE 4th grader Scholars journey to the state capital in Jefferson City. Discover history\, government\, and civic engagement firsthand\, making memories that will last a lifetime.
URL:https://momentumacademystl.org/calendar/capitaltrip/
LOCATION:Tower Groves East\, 2900 S. Grand Blvd.\, St. Louis\, MO\, 63118\, United States
CATEGORIES:Tower Grove East Event
ATTACH;FMTTYPE=image/jpeg:https://momentumacademystl.org/wp-content/uploads/2023/09/EC7A0698_8606B650-9487-ACCC-DE04F55ACED19235-8606b5bab2cb69b_8606b951-f395-1eed-4f77f0ffa12aca5d.jpeg
END:VEVENT
BEGIN:VEVENT
DTSTART;VALUE=DATE:20230928
DTEND;VALUE=DATE:20230929
DTSTAMP:20260421T005801
CREATED:20230906T191414Z
LAST-MODIFIED:20230908T170000Z
UID:10000424-1695859200-1695945599@momentumacademystl.org
SUMMARY:Picture Day at Tower Grove East!
DESCRIPTION:Smile\, its picture day! Students will dress their best\, smile for the camera\, and create lasting memories.
URL:https://momentumacademystl.org/calendar/picture-day-tge/
LOCATION:Tower Groves East\, 2900 S. Grand Blvd.\, St. Louis\, MO\, 63118\, United States
CATEGORIES:Tower Grove East Event
ORGANIZER;CN="Antionette Bedessie":MAILTO:antionette.bedessie@momentumacademystl.org
END:VEVENT
BEGIN:VEVENT
DTSTART;TZID=America/Chicago:20230926T074500
DTEND;TZID=America/Chicago:20230926T083000
DTSTAMP:20260421T005801
CREATED:20230906T192120Z
LAST-MODIFIED:20230908T162132Z
UID:10000426-1695714300-1695717000@momentumacademystl.org
SUMMARY:Muffins in the Morning
DESCRIPTION:Come enjoy a delicious muffin while getting to spend time with your kids!
URL:https://momentumacademystl.org/calendar/muffins-tge/
LOCATION:Tower Groves East\, 2900 S. Grand Blvd.\, St. Louis\, MO\, 63118\, United States
CATEGORIES:Tower Grove East Event
ATTACH;FMTTYPE=image/png:https://momentumacademystl.org/wp-content/uploads/2023/03/pexels-castorly-stock-3650438.png
ORGANIZER;CN="Antionette Bedessie":MAILTO:antionette.bedessie@momentumacademystl.org
END:VEVENT
BEGIN:VEVENT
DTSTART;VALUE=DATE:20230926
DTEND;VALUE=DATE:20230927
DTSTAMP:20260421T005801
CREATED:20230906T190910Z
LAST-MODIFIED:20230908T162807Z
UID:10000423-1695686400-1695772799@momentumacademystl.org
SUMMARY:Tower Grove East Field Trip to Busch Stadium
DESCRIPTION:Our TGE scholars in Kindergarten through second-grade visit Busch Stadium!
URL:https://momentumacademystl.org/calendar/field-trip-busch-stadium/
LOCATION:Tower Groves East\, 2900 S. Grand Blvd.\, St. Louis\, MO\, 63118\, United States
CATEGORIES:Tower Grove East Event
ATTACH;FMTTYPE=image/jpeg:https://momentumacademystl.org/wp-content/uploads/2023/09/busch-stadium-1024x615-1.jpg
END:VEVENT
BEGIN:VEVENT
DTSTART;TZID=America/Chicago:20230912T083000
DTEND;TZID=America/Chicago:20230912T100000
DTSTAMP:20260421T005801
CREATED:20230906T191851Z
LAST-MODIFIED:20230906T191851Z
UID:10000425-1694507400-1694512800@momentumacademystl.org
SUMMARY:Coffee and Conversation
DESCRIPTION:Grab your favorite cup of coffee and join us for a conversation!
URL:https://momentumacademystl.org/calendar/coffee-and-conversation-tge/
LOCATION:Tower Groves East\, 2900 S. Grand Blvd.\, St. Louis\, MO\, 63118\, United States
CATEGORIES:Tower Grove East Event
ATTACH;FMTTYPE=image/png:https://momentumacademystl.org/wp-content/uploads/2023/03/Coffee_pexels-archie-binamira-1187317.png
ORGANIZER;CN="Antionette Bedessie":MAILTO:antionette.bedessie@momentumacademystl.org
END:VEVENT
BEGIN:VEVENT
DTSTART;TZID=America/Chicago:20230503T173000
DTEND;TZID=America/Chicago:20230503T210000
DTSTAMP:20260421T005801
CREATED:20230329T204859Z
LAST-MODIFIED:20230330T171655Z
UID:10000302-1683135000-1683147600@momentumacademystl.org
SUMMARY:Boys Soccer Game
DESCRIPTION:Come join us for the boys soccer game.
URL:https://momentumacademystl.org/calendar/boys-soccer-game-4/
LOCATION:Tower Groves East\, 2900 S. Grand Blvd.\, St. Louis\, MO\, 63118\, United States
CATEGORIES:Tower Grove East Event
ATTACH;FMTTYPE=image/png:https://momentumacademystl.org/wp-content/uploads/2023/03/Soccer_pexels-pixabay-274506.png
ORGANIZER;CN="Antionette Bedessie":MAILTO:antionette.bedessie@momentumacademystl.org
END:VEVENT
BEGIN:VEVENT
DTSTART;TZID=America/Chicago:20230425T173000
DTEND;TZID=America/Chicago:20230425T210000
DTSTAMP:20260421T005801
CREATED:20230329T204408Z
LAST-MODIFIED:20230330T191319Z
UID:10000298-1682443800-1682456400@momentumacademystl.org
SUMMARY:Boy Soccer Game
DESCRIPTION:Come join us for the boys soccer game.
URL:https://momentumacademystl.org/calendar/boy-soccer-game/
LOCATION:Tower Groves East\, 2900 S. Grand Blvd.\, St. Louis\, MO\, 63118\, United States
CATEGORIES:Tower Grove East Event
ATTACH;FMTTYPE=image/png:https://momentumacademystl.org/wp-content/uploads/2023/03/Soccer_pexels-pixabay-274506.png
ORGANIZER;CN="Antionette Bedessie":MAILTO:antionette.bedessie@momentumacademystl.org
END:VEVENT
BEGIN:VEVENT
DTSTART;VALUE=DATE:20230424
DTEND;VALUE=DATE:20230425
DTSTAMP:20260421T005801
CREATED:20230329T204237Z
LAST-MODIFIED:20230330T191549Z
UID:10000297-1682294400-1682380799@momentumacademystl.org
SUMMARY:Dental Van
DESCRIPTION:The Dental van will be at our school to provide oral health screenings.
URL:https://momentumacademystl.org/calendar/dental-van/
LOCATION:Tower Groves East\, 2900 S. Grand Blvd.\, St. Louis\, MO\, 63118\, United States
CATEGORIES:Tower Grove East Event
ATTACH;FMTTYPE=image/png:https://momentumacademystl.org/wp-content/uploads/2023/03/Dental-Van_pexels-anna-shvets-4045552.png
ORGANIZER;CN="Antionette Bedessie":MAILTO:antionette.bedessie@momentumacademystl.org
END:VEVENT
BEGIN:VEVENT
DTSTART;TZID=America/Chicago:20230419T173000
DTEND;TZID=America/Chicago:20230419T210000
DTSTAMP:20260421T005801
CREATED:20230330T162823Z
LAST-MODIFIED:20230330T195152Z
UID:10000389-1681925400-1681938000@momentumacademystl.org
SUMMARY:Boy Soccer Game
DESCRIPTION:Come join us for the boys soccer game.
URL:https://momentumacademystl.org/calendar/boy-soccer-game-2/
LOCATION:Tower Groves East\, 2900 S. Grand Blvd.\, St. Louis\, MO\, 63118\, United States
CATEGORIES:Tower Grove East Event
ATTACH;FMTTYPE=image/png:https://momentumacademystl.org/wp-content/uploads/2023/03/Soccer_pexels-pixabay-274506.png
ORGANIZER;CN="Antionette Bedessie":MAILTO:antionette.bedessie@momentumacademystl.org
END:VEVENT
BEGIN:VEVENT
DTSTART;VALUE=DATE:20230417
DTEND;VALUE=DATE:20230422
DTSTAMP:20260421T005801
CREATED:20230329T203212Z
LAST-MODIFIED:20230330T200122Z
UID:10000295-1681689600-1682121599@momentumacademystl.org
SUMMARY:MAP Testing 5th and 8th Grade: Science
DESCRIPTION:MAP testing in Science for 3rd through 8th graders starts
URL:https://momentumacademystl.org/calendar/map-testing-5th-and-8th-grade-science/
LOCATION:Tower Groves East\, 2900 S. Grand Blvd.\, St. Louis\, MO\, 63118\, United States
CATEGORIES:Tower Grove East Event
ATTACH;FMTTYPE=image/png:https://momentumacademystl.org/wp-content/uploads/2023/03/Testing_AdobeStock_90430158.png
ORGANIZER;CN="Antionette Bedessie":MAILTO:antionette.bedessie@momentumacademystl.org
END:VEVENT
BEGIN:VEVENT
DTSTART;VALUE=DATE:20230413
DTEND;VALUE=DATE:20230414
DTSTAMP:20260421T005801
CREATED:20230329T204755Z
LAST-MODIFIED:20230330T200415Z
UID:10000301-1681344000-1681430399@momentumacademystl.org
SUMMARY:Girls in The Know-4th Grade
DESCRIPTION:
URL:https://momentumacademystl.org/calendar/girls-in-the-know-4th-grade-2/
LOCATION:Tower Groves East\, 2900 S. Grand Blvd.\, St. Louis\, MO\, 63118\, United States
CATEGORIES:Tower Grove East Event
ATTACH;FMTTYPE=image/jpeg:https://momentumacademystl.org/wp-content/uploads/2023/03/IMG_5376-scaled.jpg
ORGANIZER;CN="Antionette Bedessie":MAILTO:antionette.bedessie@momentumacademystl.org
END:VEVENT
BEGIN:VEVENT
DTSTART;TZID=America/Chicago:20230412T173000
DTEND;TZID=America/Chicago:20230412T210000
DTSTAMP:20260421T005801
CREATED:20230329T203018Z
LAST-MODIFIED:20230330T200438Z
UID:10000294-1681320600-1681333200@momentumacademystl.org
SUMMARY:Boys Soccer Game
DESCRIPTION:Come join us for the boys soccer game.
URL:https://momentumacademystl.org/calendar/boys-soccer-game-2/
LOCATION:Tower Groves East\, 2900 S. Grand Blvd.\, St. Louis\, MO\, 63118\, United States
CATEGORIES:Tower Grove East Event
ATTACH;FMTTYPE=image/png:https://momentumacademystl.org/wp-content/uploads/2023/03/Soccer_pexels-pixabay-274506.png
ORGANIZER;CN="Antionette Bedessie":MAILTO:antionette.bedessie@momentumacademystl.org
END:VEVENT
BEGIN:VEVENT
DTSTART;VALUE=DATE:20230410
DTEND;VALUE=DATE:20230415
DTSTAMP:20260421T005801
CREATED:20230329T202748Z
LAST-MODIFIED:20230330T145723Z
UID:10000293-1681084800-1681516799@momentumacademystl.org
SUMMARY:MAP Testing 3rd through 8th Grade: ELA
DESCRIPTION:MAP testing in English Language Arts for 3rd through 8th graders starts
URL:https://momentumacademystl.org/calendar/map-testing-3rd-through-8th-grade-ela/
LOCATION:Tower Groves East\, 2900 S. Grand Blvd.\, St. Louis\, MO\, 63118\, United States
CATEGORIES:Tower Grove East Event
ORGANIZER;CN="Antionette Bedessie":MAILTO:antionette.bedessie@momentumacademystl.org
END:VEVENT
BEGIN:VEVENT
DTSTART;TZID=America/Chicago:20230406T080000
DTEND;TZID=America/Chicago:20230406T170000
DTSTAMP:20260421T005801
CREATED:20230329T204725Z
LAST-MODIFIED:20230330T145851Z
UID:10000300-1680768000-1680800400@momentumacademystl.org
SUMMARY:Girls in The Know-4th Grade
DESCRIPTION:
URL:https://momentumacademystl.org/calendar/girls-in-the-know-4th-grade/
LOCATION:Tower Groves East\, 2900 S. Grand Blvd.\, St. Louis\, MO\, 63118\, United States
CATEGORIES:Tower Grove East Event
ORGANIZER;CN="Antionette Bedessie":MAILTO:antionette.bedessie@momentumacademystl.org
END:VEVENT
BEGIN:VEVENT
DTSTART;TZID=America/Chicago:20230405T173000
DTEND;TZID=America/Chicago:20230405T210000
DTSTAMP:20260421T005801
CREATED:20230329T202513Z
LAST-MODIFIED:20230330T145832Z
UID:10000292-1680715800-1680728400@momentumacademystl.org
SUMMARY:Boys Soccer Game
DESCRIPTION:Come join us for the boys soccer game.
URL:https://momentumacademystl.org/calendar/boys-soccer-game/
LOCATION:Tower Groves East\, 2900 S. Grand Blvd.\, St. Louis\, MO\, 63118\, United States
CATEGORIES:Tower Grove East Event
ORGANIZER;CN="Antionette Bedessie":MAILTO:antionette.bedessie@momentumacademystl.org
END:VEVENT
BEGIN:VEVENT
DTSTART;VALUE=DATE:20230403
DTEND;VALUE=DATE:20230408
DTSTAMP:20260421T005801
CREATED:20230329T202017Z
LAST-MODIFIED:20230330T145949Z
UID:10000291-1680480000-1680911999@momentumacademystl.org
SUMMARY:MAP Testing 3rd through 8th Grade: Math
DESCRIPTION:It’s time for MAP testing in math for all 3rd to 8th graders!
URL:https://momentumacademystl.org/calendar/map-testing-3rd-through-8th-grade-math/
LOCATION:Tower Groves East\, 2900 S. Grand Blvd.\, St. Louis\, MO\, 63118\, United States
CATEGORIES:Tower Grove East Event
ORGANIZER;CN="Antionette Bedessie":MAILTO:antionette.bedessie@momentumacademystl.org
END:VEVENT
END:VCALENDAR