BEGIN:VCALENDAR
VERSION:2.0
PRODID:-//Momentum Academy - ECPv6.15.20//NONSGML v1.0//EN
CALSCALE:GREGORIAN
METHOD:PUBLISH
X-ORIGINAL-URL:https://momentumacademystl.org
X-WR-CALDESC:Events for Momentum Academy
REFRESH-INTERVAL;VALUE=DURATION:PT1H
X-Robots-Tag:noindex
X-PUBLISHED-TTL:PT1H
BEGIN:VTIMEZONE
TZID:America/Chicago
BEGIN:DAYLIGHT
TZOFFSETFROM:-0600
TZOFFSETTO:-0500
TZNAME:CDT
DTSTART:20230312T080000
END:DAYLIGHT
BEGIN:STANDARD
TZOFFSETFROM:-0500
TZOFFSETTO:-0600
TZNAME:CST
DTSTART:20231105T070000
END:STANDARD
BEGIN:DAYLIGHT
TZOFFSETFROM:-0600
TZOFFSETTO:-0500
TZNAME:CDT
DTSTART:20240310T080000
END:DAYLIGHT
BEGIN:STANDARD
TZOFFSETFROM:-0500
TZOFFSETTO:-0600
TZNAME:CST
DTSTART:20241103T070000
END:STANDARD
BEGIN:DAYLIGHT
TZOFFSETFROM:-0600
TZOFFSETTO:-0500
TZNAME:CDT
DTSTART:20250309T080000
END:DAYLIGHT
BEGIN:STANDARD
TZOFFSETFROM:-0500
TZOFFSETTO:-0600
TZNAME:CST
DTSTART:20251102T070000
END:STANDARD
BEGIN:DAYLIGHT
TZOFFSETFROM:-0600
TZOFFSETTO:-0500
TZNAME:CDT
DTSTART:20260308T080000
END:DAYLIGHT
BEGIN:STANDARD
TZOFFSETFROM:-0500
TZOFFSETTO:-0600
TZNAME:CST
DTSTART:20261101T070000
END:STANDARD
END:VTIMEZONE
BEGIN:VEVENT
DTSTART;TZID=America/Chicago:20250626T173000
DTEND;TZID=America/Chicago:20250626T200000
DTSTAMP:20260419T165726
CREATED:20250509T161747Z
LAST-MODIFIED:20250509T161747Z
UID:10000737-1750959000-1750968000@momentumacademystl.org
SUMMARY:Family Movie Night - Lilo & Stitch
DESCRIPTION:  \nJoin us for a feature flick! We’ll be showing the live-action Lilo & Stitch movie. The first 100 families wearing Momentum Academy gear will receive a free popcorn coupon! Reserve your seats here. This event is for Momentum Academy families only.
URL:https://momentumacademystl.org/calendar/family-movie-night-lilo-stitch/
LOCATION:Ronnie’s 20 Cinema\, 5320 S. Lindbergh Blvd\, St. Louis\, MO\, 63126\, United States
CATEGORIES:School Event
END:VEVENT
BEGIN:VEVENT
DTSTART;TZID=America/Chicago:20240627T173000
DTEND;TZID=America/Chicago:20240627T200000
DTSTAMP:20260419T165726
CREATED:20240531T191101Z
LAST-MODIFIED:20240604T153959Z
UID:10000545-1719509400-1719518400@momentumacademystl.org
SUMMARY:Family Movie Night - Inside Out 2
DESCRIPTION:Join us for a feature flick! We’ll be showing the sensational Inside Out 2 movie. The first 100 Momentum families wearing Momentum Academy gear will receive a free popcorn coupon! Reserve your seats here. This event is for Momentum Academy families only.
URL:https://momentumacademystl.org/calendar/family-movie-night-inside-out-2/
LOCATION:Ronnie’s 20 Cinema\, 5320 S. Lindbergh Blvd\, St. Louis\, MO\, 63126\, United States
CATEGORIES:School Event
ATTACH;FMTTYPE=image/png:https://momentumacademystl.org/wp-content/uploads/2024/05/MA-Movie-Night-Facebook-Event-Cover.png
END:VEVENT
END:VCALENDAR