BEGIN:VCALENDAR
VERSION:2.0
PRODID:-//Momentum Academy - ECPv6.15.20//NONSGML v1.0//EN
CALSCALE:GREGORIAN
METHOD:PUBLISH
X-WR-CALNAME:Momentum Academy
X-ORIGINAL-URL:https://momentumacademystl.org
X-WR-CALDESC:Events for Momentum Academy
REFRESH-INTERVAL;VALUE=DURATION:PT1H
X-Robots-Tag:noindex
X-PUBLISHED-TTL:PT1H
BEGIN:VTIMEZONE
TZID:America/Chicago
BEGIN:DAYLIGHT
TZOFFSETFROM:-0600
TZOFFSETTO:-0500
TZNAME:CDT
DTSTART:20220313T080000
END:DAYLIGHT
BEGIN:STANDARD
TZOFFSETFROM:-0500
TZOFFSETTO:-0600
TZNAME:CST
DTSTART:20221106T070000
END:STANDARD
BEGIN:DAYLIGHT
TZOFFSETFROM:-0600
TZOFFSETTO:-0500
TZNAME:CDT
DTSTART:20230312T080000
END:DAYLIGHT
BEGIN:STANDARD
TZOFFSETFROM:-0500
TZOFFSETTO:-0600
TZNAME:CST
DTSTART:20231105T070000
END:STANDARD
BEGIN:DAYLIGHT
TZOFFSETFROM:-0600
TZOFFSETTO:-0500
TZNAME:CDT
DTSTART:20240310T080000
END:DAYLIGHT
BEGIN:STANDARD
TZOFFSETFROM:-0500
TZOFFSETTO:-0600
TZNAME:CST
DTSTART:20241103T070000
END:STANDARD
END:VTIMEZONE
BEGIN:VEVENT
DTSTART;VALUE=DATE:20230921
DTEND;VALUE=DATE:20230922
DTSTAMP:20260421T083711
CREATED:20230908T163513Z
LAST-MODIFIED:20230908T163513Z
UID:10000428-1695254400-1695340799@momentumacademystl.org
SUMMARY:Gravios Park Field Trip to Busch Stadium
DESCRIPTION:Our Gravios Park scholars visit Busch Stadium!
URL:https://momentumacademystl.org/calendar/gp-field-trip-to-busch-stadium/
LOCATION:Gravios Park\, 3630 Ohio Ave.\, St. Louis\, MO\, 63118\, United States
CATEGORIES:Gravois Park Event
ATTACH;FMTTYPE=image/jpeg:https://momentumacademystl.org/wp-content/uploads/2023/09/busch-stadium-1024x615-1.jpg
END:VEVENT
BEGIN:VEVENT
DTSTART;TZID=America/Chicago:20230911T073000
DTEND;TZID=America/Chicago:20230911T100000
DTSTAMP:20260421T083711
CREATED:20230908T165445Z
LAST-MODIFIED:20230908T165445Z
UID:10000434-1694417400-1694426400@momentumacademystl.org
SUMMARY:Grandparents Breakfast at Gravois Park
DESCRIPTION:An inviting morning event where students can cherish quality time with their beloved grandparents over a delicious breakfast\, creating cherished memories and celebrating the special bond between generations.
URL:https://momentumacademystl.org/calendar/grandparents-gp/
LOCATION:Gravios Park\, 3630 Ohio Ave.\, St. Louis\, MO\, 63118\, United States
CATEGORIES:Gravois Park Event
ATTACH;FMTTYPE=image/jpeg:https://momentumacademystl.org/wp-content/uploads/2023/09/breakfast-scaled.jpg
END:VEVENT
BEGIN:VEVENT
DTSTART;TZID=America/Chicago:20230804T160000
DTEND;TZID=America/Chicago:20230804T190000
DTSTAMP:20260421T083711
CREATED:20230524T131909Z
LAST-MODIFIED:20230524T131909Z
UID:10000407-1691164800-1691175600@momentumacademystl.org
SUMMARY:Momentum Block Party
DESCRIPTION:Celebrate our schools and our community with family fun at our 2nd annual Momentum Academy Block Party!
URL:https://momentumacademystl.org/calendar/momentum-block-party/
LOCATION:Gravios Park\, 3630 Ohio Ave.\, St. Louis\, MO\, 63118\, United States
CATEGORIES:School Event
END:VEVENT
END:VCALENDAR